BEGIN:VCALENDAR
VERSION:2.0
PRODID:-//La Villa Polyphème : Gîte chambre d&#039;hôte Saint-Pierre, Martinique - ECPv6.10.2//NONSGML v1.0//EN
CALSCALE:GREGORIAN
METHOD:PUBLISH
X-WR-CALNAME:La Villa Polyphème : Gîte chambre d&#039;hôte Saint-Pierre, Martinique
X-ORIGINAL-URL:https://lavillapolypheme.com
X-WR-CALDESC:Évènements pour La Villa Polyphème : Gîte chambre d&#039;hôte Saint-Pierre, Martinique
REFRESH-INTERVAL;VALUE=DURATION:PT1H
X-Robots-Tag:noindex
X-PUBLISHED-TTL:PT1H
BEGIN:VTIMEZONE
TZID:UTC
BEGIN:STANDARD
TZOFFSETFROM:+0000
TZOFFSETTO:+0000
TZNAME:UTC
DTSTART:20250101T000000
END:STANDARD
END:VTIMEZONE
BEGIN:VEVENT
DTSTART;VALUE=DATE:20250427
DTEND;VALUE=DATE:20250502
DTSTAMP:20260421T132824
CREATED:20250318T024659Z
LAST-MODIFIED:20250318T024659Z
UID:1440-1745712000-1746143999@lavillapolypheme.com
SUMMARY:Reserved
DESCRIPTION:Reservation URL: https://www.airbnb.com/hosting/reservations/details/HM5SKTXAJW\nPhone Number (Last 4 Digits): 2065
URL:https://lavillapolypheme.com/index.php/evenement/reserved-8/
END:VEVENT
BEGIN:VEVENT
DTSTART;VALUE=DATE:20250503
DTEND;VALUE=DATE:20250506
DTSTAMP:20260421T132824
CREATED:20250318T024659Z
LAST-MODIFIED:20250318T024659Z
UID:1441-1746230400-1746489599@lavillapolypheme.com
SUMMARY:Reserved
DESCRIPTION:Reservation URL: https://www.airbnb.com/hosting/reservations/details/HM35XBSDTH\nPhone Number (Last 4 Digits): 0730
URL:https://lavillapolypheme.com/index.php/evenement/reserved-9/
END:VEVENT
END:VCALENDAR