BEGIN:VCALENDAR
VERSION:2.0
PRODID:-//La Villa Polyphème : Gîte chambre d&#039;hôte Saint-Pierre, Martinique - ECPv6.10.2//NONSGML v1.0//EN
CALSCALE:GREGORIAN
METHOD:PUBLISH
X-ORIGINAL-URL:https://lavillapolypheme.com
X-WR-CALDESC:Évènements pour La Villa Polyphème : Gîte chambre d&#039;hôte Saint-Pierre, Martinique
REFRESH-INTERVAL;VALUE=DURATION:PT1H
X-Robots-Tag:noindex
X-PUBLISHED-TTL:PT1H
BEGIN:VTIMEZONE
TZID:UTC
BEGIN:STANDARD
TZOFFSETFROM:+0000
TZOFFSETTO:+0000
TZNAME:UTC
DTSTART:20250101T000000
END:STANDARD
END:VTIMEZONE
BEGIN:VEVENT
DTSTART;VALUE=DATE:20250330
DTEND;VALUE=DATE:20250402
DTSTAMP:20260421T165902
CREATED:20250318T024658Z
LAST-MODIFIED:20250318T024659Z
UID:1435-1743292800-1743551999@lavillapolypheme.com
SUMMARY:Reserved
DESCRIPTION:Reservation URL: https://www.airbnb.com/hosting/reservations/details/HM3CP9HZHQ\nPhone Number (Last 4 Digits): 6654
URL:https://lavillapolypheme.com/index.php/evenement/reserved-4/
END:VEVENT
BEGIN:VEVENT
DTSTART;VALUE=DATE:20250405
DTEND;VALUE=DATE:20250412
DTSTAMP:20260421T165902
CREATED:20250318T024658Z
LAST-MODIFIED:20250318T024659Z
UID:1436-1743811200-1744415999@lavillapolypheme.com
SUMMARY:Reserved
DESCRIPTION:Reservation URL: https://www.airbnb.com/hosting/reservations/details/HMHDD2MHHF\nPhone Number (Last 4 Digits): 1691
URL:https://lavillapolypheme.com/index.php/evenement/reserved-5/
END:VEVENT
BEGIN:VEVENT
DTSTART;VALUE=DATE:20250412
DTEND;VALUE=DATE:20250415
DTSTAMP:20260421T165902
CREATED:20250318T024658Z
LAST-MODIFIED:20250318T024659Z
UID:1437-1744416000-1744675199@lavillapolypheme.com
SUMMARY:Reserved
DESCRIPTION:Reservation URL: https://www.airbnb.com/hosting/reservations/details/HMDS4FT84F\nPhone Number (Last 4 Digits): 1576
URL:https://lavillapolypheme.com/index.php/evenement/reserved-6/
END:VEVENT
BEGIN:VEVENT
DTSTART;VALUE=DATE:20250415
DTEND;VALUE=DATE:20250420
DTSTAMP:20260421T165902
CREATED:20250318T024658Z
LAST-MODIFIED:20250318T024659Z
UID:1438-1744675200-1745107199@lavillapolypheme.com
SUMMARY:Airbnb (Not available)
DESCRIPTION:
URL:https://lavillapolypheme.com/index.php/evenement/airbnb-not-available/
END:VEVENT
BEGIN:VEVENT
DTSTART;VALUE=DATE:20250422
DTEND;VALUE=DATE:20250425
DTSTAMP:20260421T165902
CREATED:20250318T024658Z
LAST-MODIFIED:20250318T024659Z
UID:1439-1745280000-1745539199@lavillapolypheme.com
SUMMARY:Reserved
DESCRIPTION:Reservation URL: https://www.airbnb.com/hosting/reservations/details/HMRHQMNTAN\nPhone Number (Last 4 Digits): 6572
URL:https://lavillapolypheme.com/index.php/evenement/reserved-7/
END:VEVENT
BEGIN:VEVENT
DTSTART;VALUE=DATE:20250427
DTEND;VALUE=DATE:20250502
DTSTAMP:20260421T165902
CREATED:20250318T024659Z
LAST-MODIFIED:20250318T024659Z
UID:1440-1745712000-1746143999@lavillapolypheme.com
SUMMARY:Reserved
DESCRIPTION:Reservation URL: https://www.airbnb.com/hosting/reservations/details/HM5SKTXAJW\nPhone Number (Last 4 Digits): 2065
URL:https://lavillapolypheme.com/index.php/evenement/reserved-8/
END:VEVENT
END:VCALENDAR